BEGIN:VCALENDAR
VERSION:2.0
PRODID:-//Paróquia Santa Generosa - ECPv6.15.20//NONSGML v1.0//EN
CALSCALE:GREGORIAN
METHOD:PUBLISH
X-WR-CALNAME:Paróquia Santa Generosa
X-ORIGINAL-URL:https://paroquiasantagenerosa.com.br
X-WR-CALDESC:Eventos para Paróquia Santa Generosa
REFRESH-INTERVAL;VALUE=DURATION:PT1H
X-Robots-Tag:noindex
X-PUBLISHED-TTL:PT1H
BEGIN:VTIMEZONE
TZID:America/Sao_Paulo
BEGIN:STANDARD
TZOFFSETFROM:-0300
TZOFFSETTO:-0300
TZNAME:-03
DTSTART:20250101T000000
END:STANDARD
END:VTIMEZONE
BEGIN:VEVENT
DTSTART;TZID=America/Sao_Paulo:20260428T000000
DTEND;TZID=America/Sao_Paulo:20260428T235900
DTSTAMP:20260423T094331
CREATED:20260422T100127Z
LAST-MODIFIED:20260422T211112Z
UID:25293-1777334400-1777420740@paroquiasantagenerosa.com.br
SUMMARY:ATENÇÃO À AGENDA
DESCRIPTION:No dia 28 de abril\, terça -feira\, a partir das 10h\, abriremos vagas para o CURSO ONLINE que será realizado no sábado 30/05/2026.
URL:https://paroquiasantagenerosa.com.br/event/agenda/
LOCATION:Paróquia Santa Generosa\, Av. Bernardino de Campos\, 360\, São Paulo\, São Paulo\, 04054-001\, Brazil
CATEGORIES:CPPB
END:VEVENT
END:VCALENDAR